BEGIN:VCALENDAR
VERSION:2.0
PRODID:-//theurjittavibes.com - ECPv6.15.13.1//NONSGML v1.0//EN
CALSCALE:GREGORIAN
METHOD:PUBLISH
X-ORIGINAL-URL:https://theurjittavibes.com
X-WR-CALDESC:Events for theurjittavibes.com
REFRESH-INTERVAL;VALUE=DURATION:PT1H
X-Robots-Tag:noindex
X-PUBLISHED-TTL:PT1H
BEGIN:VTIMEZONE
TZID:UTC
BEGIN:STANDARD
TZOFFSETFROM:+0000
TZOFFSETTO:+0000
TZNAME:UTC
DTSTART:20240101T000000
END:STANDARD
END:VTIMEZONE
BEGIN:VEVENT
DTSTART;VALUE=DATE:20250920
DTEND;VALUE=DATE:20250925
DTSTAMP:20260419T130409
CREATED:20240822T181116Z
LAST-MODIFIED:20240822T181116Z
UID:38824-1758326400-1758758399@theurjittavibes.com
SUMMARY:Mindfulness and Stress-Relief Retreat
DESCRIPTION:The European languages are members of the same family. Their separate existence is a myth. For science\, music\, sport\, etc\, Europe uses the same vocabulary. The languages only differ in their grammar\, their pronunciation and their most common words. Everyone realizes why a new common language would be desirable: one could refuse to pay expensive translators. To achieve this\, it would be necessary to have uniform grammar\, pronunciation and more common words. If several languages coalesce\, the grammar of the resulting language is more simple and regular than that of the individual languages. The new common language will be more simple and regular than the existing European languages. It will be as simple as Occidental; in fact\, it will be Occidental. To an English person\, it will seem like simplified English\, as a skeptical Cambridge friend of mine told me what Occidental is.The European languages are members of the same family.
URL:https://theurjittavibes.com/event/mindfulness-and-stress-relief-retreat/
LOCATION:United States\, 511 SW 10th Ave 1206\, Portland\, OR\, United States\, Portland\, OR\, United States
CATEGORIES:Retreats
ATTACH;FMTTYPE=image/webp:https://theurjittavibes.com/wp-content/uploads/2024/12/Events-6.webp
ORGANIZER;CN="Emma Thompson":MAILTO:info@example.com
END:VEVENT
BEGIN:VEVENT
DTSTART;VALUE=DATE:20250919
DTEND;VALUE=DATE:20250927
DTSTAMP:20260419T130409
CREATED:20240822T102618Z
LAST-MODIFIED:20240822T102618Z
UID:38811-1758240000-1758931199@theurjittavibes.com
SUMMARY:Energy Renewal and Alignment
DESCRIPTION:The European languages are members of the same family. Their separate existence is a myth. For science\, music\, sport\, etc\, Europe uses the same vocabulary. The languages only differ in their grammar\, their pronunciation and their most common words. Everyone realizes why a new common language would be desirable: one could refuse to pay expensive translators. To achieve this\, it would be necessary to have uniform grammar\, pronunciation and more common words. If several languages coalesce\, the grammar of the resulting language is more simple and regular than that of the individual languages. The new common language will be more simple and regular than the existing European languages. It will be as simple as Occidental; in fact\, it will be Occidental. To an English person\, it will seem like simplified English\, as a skeptical Cambridge friend of mine told me what Occidental is.The European languages are members of the same family.
URL:https://theurjittavibes.com/event/energy-renewal-and-alignment/
LOCATION:United States\, 511 SW 10th Ave 1206\, Portland\, OR\, United States\, Portland\, OR\, United States
CATEGORIES:Retreats
ATTACH;FMTTYPE=image/webp:https://theurjittavibes.com/wp-content/uploads/2024/12/Events-7.webp
ORGANIZER;CN="Emma Thompson":MAILTO:info@example.com
END:VEVENT
END:VCALENDAR